BEGIN:VCALENDAR
VERSION:2.0
PRODID:-//wp-events-plugin.com//7.2.3.1//EN
TZID:America/Denver
X-WR-TIMEZONE:America/Denver
BEGIN:VEVENT
UID:1386@oa-cnmi.org
DTSTART;TZID=America/Denver:20251212T120000
DTEND;TZID=America/Denver:20251212T120000
DTSTAMP:20250920T030436Z
URL:https://oa-cnmi.org/events/12-step-within-committee-presents-a-walk-ar
 ound-the-park/
SUMMARY:12 Step Within Committee Presents "A Walk Around the Park" 12/12@12
DESCRIPTION:The 12 Step Within Committee invites you to “A Walk Around th
 e Park” on Friday\, December 12\, 2025\, at noon in Tiquex Park\, Old To
 wn Albuquerque. This special walking and talking meeting is a chance to sh
 are how the Steps have changed our lives while enjoying fellowship in the 
 fresh air.
CATEGORIES:CNMI Events
LOCATION:Tiquex Park\, 1800 Mountain Rd NW\, Albuquerque\, NM \, 87104\, Un
 ited States
GEO:35.09652;-106.666343
X-APPLE-STRUCTURED-LOCATION;VALUE=URI;X-ADDRESS=1800 Mountain Rd NW\, Albuq
 uerque\, NM \, 87104\, United States;X-APPLE-RADIUS=100;X-TITLE=Tiquex Par
 k:geo:35.09652,-106.666343
END:VEVENT
BEGIN:VTIMEZONE
TZID:America/Denver
X-LIC-LOCATION:America/Denver
BEGIN:STANDARD
DTSTART:20251102T010000
TZOFFSETFROM:-0600
TZOFFSETTO:-0700
TZNAME:MST
END:STANDARD
END:VTIMEZONE
END:VCALENDAR