BEGIN:VCALENDAR
VERSION:2.0
PRODID:-//wp-events-plugin.com//7.2.3.1//EN
TZID:America/Denver
X-WR-TIMEZONE:America/Denver
BEGIN:VEVENT
UID:1361@oa-cnmi.org
DTSTART;TZID=America/Denver:20260418T153000
DTEND;TZID=America/Denver:20260419T163000
DTSTAMP:20260407T221704Z
URL:https://oa-cnmi.org/events/is-your-oa-zoom-meeting-having-issues-with-
 disruptors-there-is-a-solution-2026-04-18/
SUMMARY:Is your OA Zoom meeting having issues with disruptors? There is a s
 olution!
DESCRIPTION:Zoom Security Training offered by Jenean in Region III\n\nIf yo
 u’re interested in learning how to handle security for a Zoom meeting or
  if you are in need of a refresher\, please RSVP to register by emailing J
 enean B. at jenean.oa2023 @ icloud.com (no spaces).\n\nThe Zoom link to jo
 in the training will be sent to those who have registered by the day befor
 e the training.\n\nTypically hosted on the 3rd Saturday of the month at 3:
 30p.m. Central Time.
CATEGORIES:Region 3
END:VEVENT
BEGIN:VTIMEZONE
TZID:America/Denver
X-LIC-LOCATION:America/Denver
BEGIN:DAYLIGHT
DTSTART:20260308T030000
TZOFFSETFROM:-0700
TZOFFSETTO:-0600
TZNAME:MDT
END:DAYLIGHT
END:VTIMEZONE
END:VCALENDAR