BEGIN:VCALENDAR
VERSION:2.0
PRODID:-//wp-events-plugin.com//7.2.3.1//EN
TZID:America/Denver
X-WR-TIMEZONE:America/Denver
BEGIN:VEVENT
UID:1384@oa-cnmi.org
DTSTART;TZID=America/Denver:20250926T160000
DTEND;TZID=America/Denver:20250928T120000
DTSTAMP:20250920T030014Z
URL:https://oa-cnmi.org/events/oa-colorado-state-convention-together-we-re
 cover/
SUMMARY:OA Colorado State Convention | Together\, We Recover!
DESCRIPTION:Escape to the Colorado Rockies this fall for a weekend of recov
 ery\, fellowship\, and renewal! The OA Colorado State Convention (Sept 26
 –28\, 2025) at Keystone Lodge & Spa offers inspiring workshops\, powerfu
 l meetings\, and time to connect with members from across the region. Scho
 larships are available—don’t miss this chance to grow together in reco
 very.
ATTACH;FMTTYPE=image/jpeg:https://oa-cnmi.org/wp-content/uploads/2025/08/C
 Othumb.png
CATEGORIES:Conventions &amp; Assemblies
LOCATION:The Keystone Lodge & Spa\, 22101 US Highway 6\, Keystone\, CO\, Un
 ited States
GEO:39.607294;-105.970286
X-APPLE-STRUCTURED-LOCATION;VALUE=URI;X-ADDRESS=22101 US Highway 6\, Keysto
 ne\, CO\, United States;X-APPLE-RADIUS=100;X-TITLE=The Keystone Lodge & Sp
 a:geo:39.607294,-105.970286
END:VEVENT
BEGIN:VTIMEZONE
TZID:America/Denver
X-LIC-LOCATION:America/Denver
BEGIN:DAYLIGHT
DTSTART:20250309T030000
TZOFFSETFROM:-0700
TZOFFSETTO:-0600
TZNAME:MDT
END:DAYLIGHT
END:VTIMEZONE
END:VCALENDAR