BEGIN:VCALENDAR
VERSION:2.0
PRODID:-//wp-events-plugin.com//7.2.3.1//EN
TZID:America/Denver
X-WR-TIMEZONE:America/Denver
BEGIN:VEVENT
UID:1383@oa-cnmi.org
DTSTART;TZID=America/Denver:20250913T130000
DTEND;TZID=America/Denver:20250913T143000
DTSTAMP:20250830T014135Z
URL:https://oa-cnmi.org/events/oa-region-3-relapse-prevention-workshop-you
 -are-not-alone/
SUMMARY:OA Region 3 Relapse Prevention Workshop | You Are Not Alone
DESCRIPTION:You are not alone! Join us Sept 13 for Region 3’s Relapse Pre
 vention Workshop—share hope & tools on Zoom."
ATTACH;FMTTYPE=image/jpeg:https://oa-cnmi.org/wp-content/uploads/2025/08/S
 creenshot-2025-08-21-140210.webp
CATEGORIES:Events,Workshops
END:VEVENT
BEGIN:VTIMEZONE
TZID:America/Denver
X-LIC-LOCATION:America/Denver
BEGIN:DAYLIGHT
DTSTART:20250309T030000
TZOFFSETFROM:-0700
TZOFFSETTO:-0600
TZNAME:MDT
END:DAYLIGHT
END:VTIMEZONE
END:VCALENDAR