BEGIN:VCALENDAR
VERSION:2.0
PRODID:-//wp-events-plugin.com//7.2.3.1//EN
TZID:America/Denver
X-WR-TIMEZONE:America/Denver
BEGIN:VEVENT
UID:1382@oa-cnmi.org
DTSTART;TZID=America/Denver:20251115T000000
DTEND;TZID=America/Denver:20251116T000000
DTSTAMP:20250920T030245Z
URL:https://oa-cnmi.org/events/oa-virtual-region-assembly-nov-15-16-save-t
 he-date/
SUMMARY:OA Virtual Region Assembly - Nov 15-16 - Save the Date
DESCRIPTION:&nbsp\;\n\n\n\n\n\n\n\n\n\n\n\n\nSave The Date!\nVirtual Region
  Assembly 2 – 2025\nNovember 15-16\, 2025\n\n\n\n\n\n\n\n\n\n\n\n\n\n\n\
 n\n\n\n\n\n\n\n\n\n5 Board positions and Trustee position\nneed to be fill
 ed\nChair – Job description\nTreasurer – Job Description\nData Coor
 dinator – Job Description\nDigital Coordinator – Job Description\nM
 ember-at-Large – Job Description\nApplications due date September 16\, 
 2025 – Application\nTrustee position – Job Description\nApplication
  due date September 16\, 2025 – Application\n———\nAll motions du
 e by September 16\, 2025\nMotions Form\nAdditional Dates:\n Meet the Make
 r 1\n All VR Service Bodies\, Region Committees &amp\; Board Officers\n 
 Sunday 12th October 10am ET | 4pm ET\nMeet the Maker 2\n Region Committee
  Chairs\, Board Officers &amp\; Representatives only\n Sunday 9th Novembe
 r 10am ET | 4pm ET\n Green Dot Welcome &amp\; Review\n Sunday 9th Novemb
 er 9am ET | 3pm ET\n Registration Closes Tuesday 11th November\n Busines
 s Assembly\n Saturday 15th November 10am – 4:30pm ET\nBoard Meetings &a
 mp\; Committee Meetings\n Sunday 16th November 8:30am – 4:30pm ET\n\n\n
 \n\n\n\n\n\n\n\n\n\n\n\n\n\n\n\n\n\n\n\n\nWatch for further information he
 re Assembly 2025-2 Nov 15-16\n\n\n\n\n\n\n\n
CATEGORIES:Conventions &amp; Assemblies
END:VEVENT
BEGIN:VTIMEZONE
TZID:America/Denver
X-LIC-LOCATION:America/Denver
BEGIN:STANDARD
DTSTART:20251102T010000
TZOFFSETFROM:-0600
TZOFFSETTO:-0700
TZNAME:MST
END:STANDARD
END:VTIMEZONE
END:VCALENDAR