BEGIN:VCALENDAR
VERSION:2.0
PRODID:-//wp-events-plugin.com//7.2.3.1//EN
TZID:America/Denver
X-WR-TIMEZONE:America/Denver
BEGIN:VEVENT
UID:1380@oa-cnmi.org
DTSTART;TZID=America/Denver:20250909T180000
DTEND;TZID=America/Denver:20250909T200000
DTSTAMP:20250825T213625Z
URL:https://oa-cnmi.org/events/overeaters-anonymous-virtual-twelve-step-wo
 rkshop/
SUMMARY:Overeaters Anonymous Virtual Twelve Step Workshop
DESCRIPTION:The Central New Mexico Intergroup (CNMI) of Overeaters Anonymou
 s is sponsoring a 15 session workshop (September 9 - December 16\, 2025) d
 esigned to help participants achieve and/or maintain abstinence through wo
 rking all Twelve Steps. The workshop is based on the "Participant Guide fo
 r Twelve Step Workshop and Study Guide"\, available at https://bookstore.o
 a.org/books.asp.\n\nSeptember 9 - December 16\, 2025\nTuesdays\, 6:00 p.m.
  – 8:00 p.m. Mountain Time\nMeeting via Zoom\nFor more information\, see
 : https://bit.ly/oa12sw-fall2025\n\nContact Frank @ 505.688.0788 or 505OA
 Guy@gmail.com\n\nThe following literature is used in the workshop:\n\n 	\n
 \n 	Participant Guide for Twelve Step Workshop and Study Guide\n 	The Twel
 ve Steps and Twelve Traditions of Overeaters Anonymous\, 2nd Ed.\n 	Overea
 ters Anonymous\, Third Edition*\n 	Voices of Recovery\n 	For Today\n 	Alco
 holics Anonymous\, Fourth Edition (Big Book)*\n 	Twelve Steps and Twelve T
 raditions by Alcoholics Anonymous*\n\n\n\nThe program was originally inten
 ded for those in relapse\, but we've found it valuable for anyone wishing 
 to strengthen their recovery through the Twelve Steps. All are welcome\, b
 ut if you aren't familiar with the steps\, consider discussing it with you
 r sponsor or trusted program friend first. The workshop can be intense for
  those who are being exposed to the steps for the first time.\n\nThe works
 hop is closed to new attendees after the second meeting and participants a
 re expected to make their best effort to attend and participate in all ses
 sions.\n\nZoom Link TBD\n\nMeeting ID: TBD\n\nPasscode: TBD\n\n* - the por
 tions of these texts used in the workshop are available online at no charg
 e
CATEGORIES:Workshops
END:VEVENT
BEGIN:VTIMEZONE
TZID:America/Denver
X-LIC-LOCATION:America/Denver
BEGIN:DAYLIGHT
DTSTART:20250309T030000
TZOFFSETFROM:-0700
TZOFFSETTO:-0600
TZNAME:MDT
END:DAYLIGHT
END:VTIMEZONE
END:VCALENDAR