BEGIN:VCALENDAR
VERSION:2.0
PRODID:-//wp-events-plugin.com//7.2.3.1//EN
TZID:America/Denver
X-WR-TIMEZONE:America/Denver
BEGIN:VEVENT
UID:1410@oa-cnmi.org
DTSTART;TZID=America/Denver:20260314T130000
DTEND;TZID=America/Denver:20260314T143000
DTSTAMP:20260213T210603Z
URL:https://oa-cnmi.org/events/region-3-march-relapse-prevention-workshop-
 you-are-not-alone/
SUMMARY:Region 3 March Relapse Prevention Workshop | You Are Not Alone
DESCRIPTION:Region 3 Relapse Flyer 3-14-2026\n\n[pdf-embedder url="https://
 oa-cnmi.org/wp-content/uploads/2026/02/region3_relapse_recovery_wrksp_0314
 26.pdf"]
CATEGORIES:Region 3,Workshops
END:VEVENT
BEGIN:VTIMEZONE
TZID:America/Denver
X-LIC-LOCATION:America/Denver
BEGIN:DAYLIGHT
DTSTART:20260308T030000
TZOFFSETFROM:-0700
TZOFFSETTO:-0600
TZNAME:MDT
END:DAYLIGHT
END:VTIMEZONE
END:VCALENDAR