BEGIN:VCALENDAR
VERSION:2.0
PRODID:-//wp-events-plugin.com//7.2.3.1//EN
TZID:America/Denver
X-WR-TIMEZONE:America/Denver
BEGIN:VEVENT
UID:1391@oa-cnmi.org
DTSTART;TZID=America/Denver:20251213T130000
DTEND;TZID=America/Denver:20251213T143000
DTSTAMP:20251203T033911Z
URL:https://oa-cnmi.org/events/region-3-quarterly-relapse-prevention-works
 hop-you-are-not-alone/
SUMMARY:Region 3 Quarterly Relapse Prevention Workshop | You Are Not Alone
DESCRIPTION:
CATEGORIES:Region 3,Workshops
END:VEVENT
BEGIN:VTIMEZONE
TZID:America/Denver
X-LIC-LOCATION:America/Denver
BEGIN:STANDARD
DTSTART:20251102T010000
TZOFFSETFROM:-0600
TZOFFSETTO:-0700
TZNAME:MST
END:STANDARD
END:VTIMEZONE
END:VCALENDAR