BEGIN:VCALENDAR
VERSION:2.0
PRODID:-//wp-events-plugin.com//7.2.3.1//EN
TZID:America/Denver
X-WR-TIMEZONE:America/Denver
BEGIN:VEVENT
UID:1389@oa-cnmi.org
DTSTART;TZID=America/Denver:20260306T000000
DTEND;TZID=America/Denver:20260308T000000
DTSTAMP:20260129T021056Z
URL:https://oa-cnmi.org/events/spring-2026-region-3-assembly-texas-state-o
 a-convention/
SUMMARY:Spring 2026 Region 3 Assembly/Texas State OA Convention
DESCRIPTION:[pdf-embedder url="https://oa-cnmi.org/wp-content/uploads/secur
 epdfs/2025/10/2026-Texas-OA-State-Convention-Flyer-10-17-25-1.pdf"]
CATEGORIES:Conventions &amp; Assemblies,Events,Region 3
LOCATION:Hilton Garden Inn DFW Airport South\, 2001 Valley View Lane\, Irvi
 ng\, TX \, 75061\, OA Region 3\, United States
GEO:32.834405;-97.022941
X-APPLE-STRUCTURED-LOCATION;VALUE=URI;X-ADDRESS=2001 Valley View Lane\, Irv
 ing\, TX \, 75061\, OA Region 3\, United States;X-APPLE-RADIUS=100;X-TITLE
 =Hilton Garden Inn DFW Airport South:geo:32.834405,-97.022941
END:VEVENT
BEGIN:VTIMEZONE
TZID:America/Denver
X-LIC-LOCATION:America/Denver
BEGIN:STANDARD
DTSTART:20251102T010000
TZOFFSETFROM:-0600
TZOFFSETTO:-0700
TZNAME:MST
END:STANDARD
END:VTIMEZONE
END:VCALENDAR