BEGIN:VCALENDAR
VERSION:2.0
PRODID:-//wp-events-plugin.com//7.2.3.1//EN
TZID:America/Denver
X-WR-TIMEZONE:America/Denver
BEGIN:VEVENT
UID:1385@oa-cnmi.org
DTSTART;TZID=America/Denver:20250906T163000
DTEND;TZID=America/Denver:20250906T163000
DTSTAMP:20250830T013336Z
URL:https://oa-cnmi.org/events/sunlight-monthly-newsletter-candlelight-gra
 titude-meeting/
SUMMARY:Sunlight Monthly Newsletter - Candlelight Gratitude Meeting
DESCRIPTION:Join us for the OA Sunlight Monthly Candlelight Gratitude Meeti
 ng\, held the 3rd Sunday of every month. Together we’ll share gratitude\
 , strength\, and hope in a special candlelight ceremony honoring the OA Pr
 omises. ?? Everyone is welcome!
ATTACH;FMTTYPE=image/jpeg:https://oa-cnmi.org/wp-content/uploads/2025/08/O
 A-Sunlight-Monthly-Meeting-9c7122f78602345263cf3979a7ca84f7-compressed-1-p
 df-image.jpg
CATEGORIES:Events,Special Meetings
END:VEVENT
BEGIN:VTIMEZONE
TZID:America/Denver
X-LIC-LOCATION:America/Denver
BEGIN:DAYLIGHT
DTSTART:20250309T030000
TZOFFSETFROM:-0700
TZOFFSETTO:-0600
TZNAME:MDT
END:DAYLIGHT
END:VTIMEZONE
END:VCALENDAR