BEGIN:VCALENDAR
VERSION:2.0
PRODID:-//wp-events-plugin.com//7.2.3.1//EN
TZID:America/Denver
X-WR-TIMEZONE:America/Denver
BEGIN:VEVENT
UID:1409@oa-cnmi.org
DTSTART;TZID=America/Denver:20261212T120000
DTEND;TZID=America/Denver:20261212T130000
DTSTAMP:20260210T191515Z
URL:https://oa-cnmi.org/events/take-a-walk-around-the-park-11/
SUMMARY:Take a walk around the park
DESCRIPTION:Join your fellow OAs for an OA fellowship walk around Tiguex Pa
 rk which is just east of Old Town.\n\nWe will meet monthly at the west ent
 rance of the park on 19th Street. Parking is free on 19th Street\, Mountai
 n Road and Old Town Road.\n\nSee you there!
CATEGORIES:CNMI Events
LOCATION:Tiguex Park\, 1800 Mountain Road\, NW\, Albuquerque\, New Mexico\,
  United States
GEO:35.09652;-106.666343
X-APPLE-STRUCTURED-LOCATION;VALUE=URI;X-ADDRESS=1800 Mountain Road\, NW\, A
 lbuquerque\, New Mexico\, United States;X-APPLE-RADIUS=100;X-TITLE=Tiguex 
 Park:geo:35.09652,-106.666343
END:VEVENT
BEGIN:VTIMEZONE
TZID:America/Denver
X-LIC-LOCATION:America/Denver
BEGIN:STANDARD
DTSTART:20261101T010000
TZOFFSETFROM:-0600
TZOFFSETTO:-0700
TZNAME:MST
END:STANDARD
END:VTIMEZONE
END:VCALENDAR