BEGIN:VCALENDAR
VERSION:2.0
PRODID:-//wp-events-plugin.com//7.2.3.1//EN
TZID:America/Denver
X-WR-TIMEZONE:America/Denver
BEGIN:VEVENT
UID:1406@oa-cnmi.org
DTSTART;TZID=America/Denver:20260909T090000
DTEND;TZID=America/Denver:20260909T100000
DTSTAMP:20260210T190905Z
URL:https://oa-cnmi.org/events/take-a-walk-around-the-park-8/
SUMMARY:Take a walk around the park
DESCRIPTION:Join your fellow OAs for an OA fellowship walk around Tiguex Pa
 rk which is just east of Old Town.\n\nWe will meet monthly at the west ent
 rance of the park on 19th Street. Parking is free on 19th Street\, Mountai
 n Road and Old Town Road.\n\nLook for these events on the OA-CNMI calendar
 \n\nMarch 3\, 2026 at 3:00 p.m.\nApril 4\, 2026 at 4:00 p.m.\nMay 5\, 2026
  at 5:00 p.m.\nJune 6\, 2026 at 6:00 p.m.\nJuly 7\, 2026 at 7:00 p.m.\nAug
 ust 8\, 2026 at 8:00 a.m.\nSeptember 9\, 2026 at 9:00 a.m.\nOctober 10\, 2
 026 at 10:00 a.m.\nNovember 11\, 2026 at 11:00 a.m.\nDecember 12\, 2026 at
  12:00 noon\n\nSee you there for a great Step One into the New Year.
CATEGORIES:CNMI Events
LOCATION:Tiguex Park\, 1800 Mountain Road\, NW\, Albuquerque\, New Mexico\,
  United States
GEO:35.09652;-106.666343
X-APPLE-STRUCTURED-LOCATION;VALUE=URI;X-ADDRESS=1800 Mountain Road\, NW\, A
 lbuquerque\, New Mexico\, United States;X-APPLE-RADIUS=100;X-TITLE=Tiguex 
 Park:geo:35.09652,-106.666343
END:VEVENT
BEGIN:VTIMEZONE
TZID:America/Denver
X-LIC-LOCATION:America/Denver
BEGIN:DAYLIGHT
DTSTART:20260308T030000
TZOFFSETFROM:-0700
TZOFFSETTO:-0600
TZNAME:MDT
END:DAYLIGHT
END:VTIMEZONE
END:VCALENDAR