BEGIN:VCALENDAR
VERSION:2.0
PRODID:-//wp-events-plugin.com//7.2.3.1//EN
TZID:America/Denver
X-WR-TIMEZONE:America/Denver
BEGIN:VEVENT
UID:1392@oa-cnmi.org
DTSTART;TZID=America/Denver:20260101T130000
DTEND;TZID=America/Denver:20260101T140000
DTSTAMP:20251231T023843Z
URL:https://oa-cnmi.org/events/take-a-walk-around-the-park/
SUMMARY:Take a walk around the park
DESCRIPTION:Join your fellow OAs on January 1\, 2026 at 1:00 pm for an OA f
 ellowship walk around Tiguex Park which is just east of Old Town. We will 
 meet at the west entrance of the park on 19th Street. Parking is free on 1
 9th Street \, Mountain Road and Old Town Road. See you there for a great S
 tep One into the New Year.
ATTACH;FMTTYPE=image/jpeg:https://oa-cnmi.org/wp-content/uploads/2025/09/w
 alk_together_feature_1920x1080.jpg
CATEGORIES:CNMI Events
LOCATION:Tiguex Park\, 1800 Mountain Road\, NW\, Albuquerque\, New Mexico\,
  United States
GEO:35.09652;-106.666343
X-APPLE-STRUCTURED-LOCATION;VALUE=URI;X-ADDRESS=1800 Mountain Road\, NW\, A
 lbuquerque\, New Mexico\, United States;X-APPLE-RADIUS=100;X-TITLE=Tiguex 
 Park:geo:35.09652,-106.666343
END:VEVENT
BEGIN:VTIMEZONE
TZID:America/Denver
X-LIC-LOCATION:America/Denver
BEGIN:STANDARD
DTSTART:20251102T010000
TZOFFSETFROM:-0600
TZOFFSETTO:-0700
TZNAME:MST
END:STANDARD
END:VTIMEZONE
END:VCALENDAR