BEGIN:VCALENDAR
VERSION:2.0
PRODID:-//wp-events-plugin.com//7.2.3.1//EN
TZID:America/Denver
X-WR-TIMEZONE:America/Denver
BEGIN:VEVENT
UID:1390@oa-cnmi.org
DTSTART;TZID=America/Denver:20260116T000000
DTEND;TZID=America/Denver:20260118T000000
DTSTAMP:20251202T010104Z
URL:https://oa-cnmi.org/events/the-66th-oa-birthday-party-la/
SUMMARY:The 66th OA Birthday Party | LA
DESCRIPTION:The OA 66th Birthday Party takes place January 16–18 at the H
 ilton LAX. Early-Bird registration is $60 through November 30. The weekend
  includes meetings\, workshops\, Special Focus sessions\, meditation\, and
  fellowship. Members can find details and register at 66th OA Birthday Par
 ty | OA Los Angeles Intergroup\n\n[pdf-embedder url="https://oa-cnmi.org/w
 p-content/uploads/2025/12/Birthday-Party-Flyer-Travel-1.pdf" title="Birthd
 ay Party Flyer - Travel (1)"]
CATEGORIES:Other Events
END:VEVENT
BEGIN:VTIMEZONE
TZID:America/Denver
X-LIC-LOCATION:America/Denver
BEGIN:STANDARD
DTSTART:20251102T010000
TZOFFSETFROM:-0600
TZOFFSETTO:-0700
TZNAME:MST
END:STANDARD
END:VTIMEZONE
END:VCALENDAR