BEGIN:VCALENDAR
VERSION:2.0
PRODID:-//wp-events-plugin.com//7.2.3.1//EN
TZID:America/Denver
X-WR-TIMEZONE:America/Denver
BEGIN:VEVENT
UID:1393@oa-cnmi.org
DTSTART;TZID=America/Denver:20260124T130000
DTEND;TZID=America/Denver:20260124T143000
DTSTAMP:20251231T024655Z
URL:https://oa-cnmi.org/events/the-power-of-we-an-oa-fellowship-workshop/
SUMMARY:The Power of We | An OA Fellowship Workshop | Jan 24th 2026
DESCRIPTION:
CATEGORIES:Region 3,Workshops
END:VEVENT
BEGIN:VTIMEZONE
TZID:America/Denver
X-LIC-LOCATION:America/Denver
BEGIN:STANDARD
DTSTART:20251102T010000
TZOFFSETFROM:-0600
TZOFFSETTO:-0700
TZNAME:MST
END:STANDARD
END:VTIMEZONE
END:VCALENDAR